BEGIN:VCALENDAR
VERSION:2.0
PRODID:-//Parroquia Ntra. Sra. de Begoña - Gijón - ECPv6.15.20//NONSGML v1.0//EN
CALSCALE:GREGORIAN
METHOD:PUBLISH
X-ORIGINAL-URL:https://www.begoniagijon.com
X-WR-CALDESC:Eventos para Parroquia Ntra. Sra. de Begoña - Gijón
REFRESH-INTERVAL;VALUE=DURATION:PT1H
X-Robots-Tag:noindex
X-PUBLISHED-TTL:PT1H
BEGIN:VTIMEZONE
TZID:Europe/Paris
BEGIN:DAYLIGHT
TZOFFSETFROM:+0100
TZOFFSETTO:+0200
TZNAME:CEST
DTSTART:20160327T010000
END:DAYLIGHT
BEGIN:STANDARD
TZOFFSETFROM:+0200
TZOFFSETTO:+0100
TZNAME:CET
DTSTART:20161030T010000
END:STANDARD
BEGIN:DAYLIGHT
TZOFFSETFROM:+0100
TZOFFSETTO:+0200
TZNAME:CEST
DTSTART:20170326T010000
END:DAYLIGHT
BEGIN:STANDARD
TZOFFSETFROM:+0200
TZOFFSETTO:+0100
TZNAME:CET
DTSTART:20171029T010000
END:STANDARD
BEGIN:DAYLIGHT
TZOFFSETFROM:+0100
TZOFFSETTO:+0200
TZNAME:CEST
DTSTART:20180325T010000
END:DAYLIGHT
BEGIN:STANDARD
TZOFFSETFROM:+0200
TZOFFSETTO:+0100
TZNAME:CET
DTSTART:20181028T010000
END:STANDARD
END:VTIMEZONE
BEGIN:VEVENT
DTSTART;TZID=Europe/Paris:20171214T193000
DTEND;TZID=Europe/Paris:20171214T210000
DTSTAMP:20260423T182428
CREATED:20171129T112955Z
LAST-MODIFIED:20171129T113220Z
UID:1542-1513279800-1513285200@www.begoniagijon.com
SUMMARY:Fiesta de San Juan de la Cruz
DESCRIPTION:El día 14 de diciembre a las 19\,30 horas cantaremos vísperas en honor del Santo y a continuación la Eucaristía solemnizada. 
URL:https://www.begoniagijon.com/event/fiesta-de-san-juan-de-la-cruz-2/
END:VEVENT
END:VCALENDAR