BEGIN:VCALENDAR
VERSION:2.0
PRODID:-//Parroquia Ntra. Sra. de Begoña - Gijón - ECPv6.15.20//NONSGML v1.0//EN
CALSCALE:GREGORIAN
METHOD:PUBLISH
X-WR-CALNAME:Parroquia Ntra. Sra. de Begoña - Gijón
X-ORIGINAL-URL:https://www.begoniagijon.com
X-WR-CALDESC:Eventos para Parroquia Ntra. Sra. de Begoña - Gijón
REFRESH-INTERVAL;VALUE=DURATION:PT1H
X-Robots-Tag:noindex
X-PUBLISHED-TTL:PT1H
BEGIN:VTIMEZONE
TZID:Europe/Paris
BEGIN:DAYLIGHT
TZOFFSETFROM:+0100
TZOFFSETTO:+0200
TZNAME:CEST
DTSTART:20170326T010000
END:DAYLIGHT
BEGIN:STANDARD
TZOFFSETFROM:+0200
TZOFFSETTO:+0100
TZNAME:CET
DTSTART:20171029T010000
END:STANDARD
BEGIN:DAYLIGHT
TZOFFSETFROM:+0100
TZOFFSETTO:+0200
TZNAME:CEST
DTSTART:20180325T010000
END:DAYLIGHT
BEGIN:STANDARD
TZOFFSETFROM:+0200
TZOFFSETTO:+0100
TZNAME:CET
DTSTART:20181028T010000
END:STANDARD
BEGIN:DAYLIGHT
TZOFFSETFROM:+0100
TZOFFSETTO:+0200
TZNAME:CEST
DTSTART:20190331T010000
END:DAYLIGHT
BEGIN:STANDARD
TZOFFSETFROM:+0200
TZOFFSETTO:+0100
TZNAME:CET
DTSTART:20191027T010000
END:STANDARD
END:VTIMEZONE
BEGIN:VEVENT
DTSTART;TZID=Europe/Paris:20180210T170000
DTEND;TZID=Europe/Paris:20180210T200000
DTSTAMP:20260423T152202
CREATED:20180204T172514Z
LAST-MODIFIED:20180204T172514Z
UID:1587-1518282000-1518292800@www.begoniagijon.com
SUMMARY:La Catequesis se vuelve un Carnaval
DESCRIPTION:Niño\, niña\, padre\, madre\, abuelo\, abuela\, hermano\, te esperamos con un disfraz para armar un verdadero carnaval en horario de catequesis.
URL:https://www.begoniagijon.com/event/la-catequesis-se-vuelve-un-carnaval/
END:VEVENT
END:VCALENDAR