BEGIN:VCALENDAR
VERSION:2.0
PRODID:-//Parroquia Ntra. Sra. de Begoña - Gijón - ECPv6.15.20//NONSGML v1.0//EN
CALSCALE:GREGORIAN
METHOD:PUBLISH
X-WR-CALNAME:Parroquia Ntra. Sra. de Begoña - Gijón
X-ORIGINAL-URL:https://www.begoniagijon.com
X-WR-CALDESC:Eventos para Parroquia Ntra. Sra. de Begoña - Gijón
REFRESH-INTERVAL;VALUE=DURATION:PT1H
X-Robots-Tag:noindex
X-PUBLISHED-TTL:PT1H
BEGIN:VTIMEZONE
TZID:Europe/Paris
BEGIN:DAYLIGHT
TZOFFSETFROM:+0100
TZOFFSETTO:+0200
TZNAME:CEST
DTSTART:20170326T010000
END:DAYLIGHT
BEGIN:STANDARD
TZOFFSETFROM:+0200
TZOFFSETTO:+0100
TZNAME:CET
DTSTART:20171029T010000
END:STANDARD
BEGIN:DAYLIGHT
TZOFFSETFROM:+0100
TZOFFSETTO:+0200
TZNAME:CEST
DTSTART:20180325T010000
END:DAYLIGHT
BEGIN:STANDARD
TZOFFSETFROM:+0200
TZOFFSETTO:+0100
TZNAME:CET
DTSTART:20181028T010000
END:STANDARD
BEGIN:DAYLIGHT
TZOFFSETFROM:+0100
TZOFFSETTO:+0200
TZNAME:CEST
DTSTART:20190331T010000
END:DAYLIGHT
BEGIN:STANDARD
TZOFFSETFROM:+0200
TZOFFSETTO:+0100
TZNAME:CET
DTSTART:20191027T010000
END:STANDARD
END:VTIMEZONE
BEGIN:VEVENT
DTSTART;VALUE=DATE:20180501
DTEND;VALUE=DATE:20180502
DTSTAMP:20260423T103644
CREATED:20180423T165611Z
LAST-MODIFIED:20180423T165611Z
UID:1677-1525132800-1525219199@www.begoniagijon.com
SUMMARY:Misas para el día 1º de mayo
DESCRIPTION:Aunque es fiesta en el ámbito laboral\, las misas en nuestra parroquia tendrán horario de diario: 8:00 – 12:30 y 20:00 horas. \nEn la Cocina Económica y en las Madres Carmelitas de la Providencia: a las 9:00 de la mañana. 
URL:https://www.begoniagijon.com/event/misas-para-el-dia-1o-de-mayo/
END:VEVENT
END:VCALENDAR