BEGIN:VCALENDAR
VERSION:2.0
PRODID:-//Parroquia Ntra. Sra. de Begoña - Gijón - ECPv6.15.20//NONSGML v1.0//EN
CALSCALE:GREGORIAN
METHOD:PUBLISH
X-ORIGINAL-URL:https://www.begoniagijon.com
X-WR-CALDESC:Eventos para Parroquia Ntra. Sra. de Begoña - Gijón
REFRESH-INTERVAL;VALUE=DURATION:PT1H
X-Robots-Tag:noindex
X-PUBLISHED-TTL:PT1H
BEGIN:VTIMEZONE
TZID:Europe/Paris
BEGIN:DAYLIGHT
TZOFFSETFROM:+0100
TZOFFSETTO:+0200
TZNAME:CEST
DTSTART:20170326T010000
END:DAYLIGHT
BEGIN:STANDARD
TZOFFSETFROM:+0200
TZOFFSETTO:+0100
TZNAME:CET
DTSTART:20171029T010000
END:STANDARD
BEGIN:DAYLIGHT
TZOFFSETFROM:+0100
TZOFFSETTO:+0200
TZNAME:CEST
DTSTART:20180325T010000
END:DAYLIGHT
BEGIN:STANDARD
TZOFFSETFROM:+0200
TZOFFSETTO:+0100
TZNAME:CET
DTSTART:20181028T010000
END:STANDARD
BEGIN:DAYLIGHT
TZOFFSETFROM:+0100
TZOFFSETTO:+0200
TZNAME:CEST
DTSTART:20190331T010000
END:DAYLIGHT
BEGIN:STANDARD
TZOFFSETFROM:+0200
TZOFFSETTO:+0100
TZNAME:CET
DTSTART:20191027T010000
END:STANDARD
BEGIN:DAYLIGHT
TZOFFSETFROM:+0100
TZOFFSETTO:+0200
TZNAME:CEST
DTSTART:20200329T010000
END:DAYLIGHT
BEGIN:STANDARD
TZOFFSETFROM:+0200
TZOFFSETTO:+0100
TZNAME:CET
DTSTART:20201025T010000
END:STANDARD
END:VTIMEZONE
BEGIN:VEVENT
DTSTART;VALUE=DATE:20180325
DTEND;VALUE=DATE:20180402
DTSTAMP:20260423T135928
CREATED:20180313T215859Z
LAST-MODIFIED:20180313T215859Z
UID:1627-1521936000-1522627199@www.begoniagijon.com
SUMMARY:Horario de Semana Santa 2018
DESCRIPTION:Programa de Semana Santa
URL:https://www.begoniagijon.com/event/horario-de-semana-santa-2018/
END:VEVENT
BEGIN:VEVENT
DTSTART;TZID=Europe/Paris:20180327T193000
DTEND;TZID=Europe/Paris:20180327T203000
DTSTAMP:20260423T135928
CREATED:20180204T174407Z
LAST-MODIFIED:20180204T174407Z
UID:1607-1522179000-1522182600@www.begoniagijon.com
SUMMARY:Celebración penitencial comunitaria
DESCRIPTION:
URL:https://www.begoniagijon.com/event/celebracion-penitencial-comunitaria-2/
END:VEVENT
BEGIN:VEVENT
DTSTART;TZID=Europe/Paris:20180331T210000
DTEND;TZID=Europe/Paris:20180331T223000
DTSTAMP:20260423T135928
CREATED:20180312T184013Z
LAST-MODIFIED:20180312T184013Z
UID:1620-1522530000-1522535400@www.begoniagijon.com
SUMMARY:Vigilia Pascual
DESCRIPTION:
URL:https://www.begoniagijon.com/event/vigilia-pascual/
END:VEVENT
BEGIN:VEVENT
DTSTART;VALUE=DATE:20180501
DTEND;VALUE=DATE:20180502
DTSTAMP:20260423T135928
CREATED:20180423T165611Z
LAST-MODIFIED:20180423T165611Z
UID:1677-1525132800-1525219199@www.begoniagijon.com
SUMMARY:Misas para el día 1º de mayo
DESCRIPTION:Aunque es fiesta en el ámbito laboral\, las misas en nuestra parroquia tendrán horario de diario: 8:00 – 12:30 y 20:00 horas. \nEn la Cocina Económica y en las Madres Carmelitas de la Providencia: a las 9:00 de la mañana. 
URL:https://www.begoniagijon.com/event/misas-para-el-dia-1o-de-mayo/
END:VEVENT
BEGIN:VEVENT
DTSTART;TZID=Europe/Paris:20180502T123000
DTEND;TZID=Europe/Paris:20180502T133000
DTSTAMP:20260423T135928
CREATED:20180427T092050Z
LAST-MODIFIED:20180427T092050Z
UID:1679-1525264200-1525267800@www.begoniagijon.com
SUMMARY:Aniversario del P. Domiciano
DESCRIPTION:El miércoles\, día 2 de mayo\, a las 12:30 horas celebración del 1º aniversario de P. Domiciano Sáez\, presidido por Mons. Braulio Sáez (hermano).
URL:https://www.begoniagijon.com/event/aniversario-del-p-domiciano/
END:VEVENT
BEGIN:VEVENT
DTSTART;TZID=Europe/Paris:20180505T130000
DTEND;TZID=Europe/Paris:20180505T133000
DTSTAMP:20260423T135928
CREATED:20180423T095129Z
LAST-MODIFIED:20180427T092239Z
UID:1663-1525525200-1525527000@www.begoniagijon.com
SUMMARY:Pascua del enfermo (Unción)
DESCRIPTION:Sacramento de la Unción de Enfermos: \nDía 5 de mayo \nHora: 12:30 \nAnotarse con antelación en portería
URL:https://www.begoniagijon.com/event/pascua-del-enfermo-uncion/
END:VEVENT
BEGIN:VEVENT
DTSTART;TZID=Europe/Paris:20180505T183000
DTEND;TZID=Europe/Paris:20180505T193000
DTSTAMP:20260423T135928
CREATED:20180423T094109Z
LAST-MODIFIED:20180423T094109Z
UID:1660-1525545000-1525548600@www.begoniagijon.com
SUMMARY:Confirmaciones
DESCRIPTION:Confirmaciones en nuestra Parroquia. \nDía 5 de mayo\, a las 18:30 horas
URL:https://www.begoniagijon.com/event/confirmaciones-2/
END:VEVENT
BEGIN:VEVENT
DTSTART;TZID=Europe/Paris:20180511T123000
DTEND;TZID=Europe/Paris:20180511T133000
DTSTAMP:20260423T135928
CREATED:20180509T143517Z
LAST-MODIFIED:20180509T143517Z
UID:1685-1526041800-1526045400@www.begoniagijon.com
SUMMARY:Pascua del Enfermo. Sacramento de la Unción
DESCRIPTION:
URL:https://www.begoniagijon.com/event/pascua-del-enfermo-sacramento-de-la-uncion/
END:VEVENT
BEGIN:VEVENT
DTSTART;TZID=Europe/Paris:20180513T130000
DTEND;TZID=Europe/Paris:20180513T140000
DTSTAMP:20260423T135928
CREATED:20180423T095239Z
LAST-MODIFIED:20180423T095239Z
UID:1666-1526216400-1526220000@www.begoniagijon.com
SUMMARY:Primeras Comuniones
DESCRIPTION:
URL:https://www.begoniagijon.com/event/primeras-comuniones-4/
END:VEVENT
BEGIN:VEVENT
DTSTART;TZID=Europe/Paris:20180520T130000
DTEND;TZID=Europe/Paris:20180520T140000
DTSTAMP:20260423T135928
CREATED:20180423T095334Z
LAST-MODIFIED:20180423T095334Z
UID:1668-1526821200-1526824800@www.begoniagijon.com
SUMMARY:Primeras Comuniones
DESCRIPTION:
URL:https://www.begoniagijon.com/event/primeras-comuniones-5/
END:VEVENT
BEGIN:VEVENT
DTSTART;TZID=Europe/Paris:20180526T100000
DTEND;TZID=Europe/Paris:20180526T200000
DTSTAMP:20260423T135928
CREATED:20180423T102913Z
LAST-MODIFIED:20180423T102913Z
UID:1670-1527328800-1527364800@www.begoniagijon.com
SUMMARY:Paseo fin de curso de catequesis
DESCRIPTION:Paseo fin de curso a la Quinta de San Eutiquio \n 
URL:https://www.begoniagijon.com/event/paseo-fin-de-curso-de-catequesis/
END:VEVENT
BEGIN:VEVENT
DTSTART;VALUE=DATE:20180616
DTEND;VALUE=DATE:20180618
DTSTAMP:20260423T135928
CREATED:20180423T103337Z
LAST-MODIFIED:20180423T103337Z
UID:1673-1529107200-1529279999@www.begoniagijon.com
SUMMARY:Concentración de cofradías del Carmen
DESCRIPTION:Los días 16 y 17 de junio: concentración de Cofradías de la Virgen del Carmen\nLugar: Segovia.\nSe visitará Ávila para ganar el jubileo teresiano
URL:https://www.begoniagijon.com/event/concentracion-de-cofradias-del-carmen-2/
END:VEVENT
BEGIN:VEVENT
DTSTART;VALUE=DATE:20180616
DTEND;VALUE=DATE:20180618
DTSTAMP:20260423T135928
CREATED:20180427T092655Z
LAST-MODIFIED:20180427T092655Z
UID:1682-1529107200-1529279999@www.begoniagijon.com
SUMMARY:Concentración de Cofradías del Carmen en Segovia
DESCRIPTION:Los días 16 y 17 de junio se reúnen las Cofradías del Carmen en Segovia. Se pasará por Ávila para ganar el jubileo teresiano
URL:https://www.begoniagijon.com/event/concentracion-de-cofradias-del-carmen-en-segovia/
END:VEVENT
BEGIN:VEVENT
DTSTART;TZID=Europe/Paris:20180707T080000
DTEND;TZID=Europe/Paris:20180715T210000
DTSTAMP:20260423T135928
CREATED:20180705T173903Z
LAST-MODIFIED:20180705T173903Z
UID:1695-1530950400-1531688400@www.begoniagijon.com
SUMMARY:Novena del Carmen
DESCRIPTION:NOVENA DEL CARMEN \nDEL DÍA 7 AL 15 DE JULIO \nCULTOS:  \n\n8;00.- Laudes y Misa\n12:30.- Misa y ejercicio de la Novena\n19;30.- Rosario y ejercicio de la Novena \n20:00 Misa con predicación mariana\n\nPREDICA LA NOVENA: P. José Luis Rodríguez\, ocd.
URL:https://www.begoniagijon.com/event/novena-del-carmen/
END:VEVENT
BEGIN:VEVENT
DTSTART;TZID=Europe/Paris:20180713T193000
DTEND;TZID=Europe/Paris:20180713T203000
DTSTAMP:20260423T135928
CREATED:20180705T174538Z
LAST-MODIFIED:20180705T174538Z
UID:1702-1531510200-1531513800@www.begoniagijon.com
SUMMARY:Ofrenda Floral a la Virgen del Carmen
DESCRIPTION:
URL:https://www.begoniagijon.com/event/ofrenda-floral-a-la-virgen-del-carmen-2/
END:VEVENT
BEGIN:VEVENT
DTSTART;TZID=Europe/Paris:20180714T123000
DTEND;TZID=Europe/Paris:20180714T133000
DTSTAMP:20260423T135928
CREATED:20180705T174044Z
LAST-MODIFIED:20180705T174157Z
UID:1698-1531571400-1531575000@www.begoniagijon.com
SUMMARY:Imposición del Escapulario
DESCRIPTION:
URL:https://www.begoniagijon.com/event/ofrenda-floral-a-la-virgen-del-carmen/
END:VEVENT
BEGIN:VEVENT
DTSTART;VALUE=DATE:20180716
DTEND;VALUE=DATE:20180717
DTSTAMP:20260423T135928
CREATED:20180705T181759Z
LAST-MODIFIED:20180705T181759Z
UID:1704-1531699200-1531785599@www.begoniagijon.com
SUMMARY:Fiesta de la Virgen del Carmen
DESCRIPTION:DÍA 16 DE JULIO: \nCULTOS: \n\nMisas a la 8:00\, 11:00\, 12:30 y 20:00 horas.\n19:30 .- Vísperas en honor de la Virgen del Carmen\n20:00.- Misa seguida de la Procesión\nDespedida y Canto de la Salve.
URL:https://www.begoniagijon.com/event/fiesta-de-la-virgen-del-carmen-3/
END:VEVENT
BEGIN:VEVENT
DTSTART;VALUE=DATE:20180929
DTEND;VALUE=DATE:20181002
DTSTAMP:20260423T135928
CREATED:20180919T090621Z
LAST-MODIFIED:20180919T091110Z
UID:1736-1538179200-1538438399@www.begoniagijon.com
SUMMARY:Fiesta de Santa Teresita
DESCRIPTION:Preparación de la fiesta: \nDía 29\, sábado:  \n\n19\,30 horas: rosario\, oración a la Santa\n20\,00 horas: Misa\n\nDía 30\, domingo: \n\n18\,30 horas: rosario y oración a al Santa\n19\,00 y 20\,00 horas: Misa\n\nDía 1 de octubre\, lunes: \n\n19\,30 horas: rosario y oración a la Santa\n20\,00 horas: Misa
URL:https://www.begoniagijon.com/event/fiesta-de-santa-teresita-2/
END:VEVENT
BEGIN:VEVENT
DTSTART;TZID=Europe/Paris:20181006T170000
DTEND;TZID=Europe/Paris:20181006T193000
DTSTAMP:20260423T135928
CREATED:20180919T091252Z
LAST-MODIFIED:20180919T091252Z
UID:1739-1538845200-1538854200@www.begoniagijon.com
SUMMARY:Comienza la catequesis
DESCRIPTION:
URL:https://www.begoniagijon.com/event/comienza-la-catequesis/
END:VEVENT
BEGIN:VEVENT
DTSTART;VALUE=DATE:20181013
DTEND;VALUE=DATE:20181016
DTSTAMP:20260423T135928
CREATED:20180919T091720Z
LAST-MODIFIED:20180919T091720Z
UID:1741-1539388800-1539647999@www.begoniagijon.com
SUMMARY:Fiesta de Santa Teresa de Jesús
DESCRIPTION:Día 13 de octubre: \n\n19\,30 horas: Rosario y oración a la Santa\n20\,00 horas: Misa\n\nDía 14 de octubre: \n\n18\,30 horas: rosario y oración a la Santa\n19\,00 y 20\,00: Misa\n\nDía 15 de octubre: \n\n19\,30 horas: Vísperas cantadas\n20\,00 horas Misa
URL:https://www.begoniagijon.com/event/fiesta-de-santa-teresa-de-jesus/
END:VEVENT
BEGIN:VEVENT
DTSTART;TZID=Europe/Paris:20181020T170000
DTEND;TZID=Europe/Paris:20181021T210000
DTSTAMP:20260423T135928
CREATED:20181018T152312Z
LAST-MODIFIED:20181018T152312Z
UID:1756-1540054800-1540155600@www.begoniagijon.com
SUMMARY:Jornada del Domund
DESCRIPTION:Sábado\, día 20:  \n17\,00 horas: Catequesis familiar en torno al DOMUND \n18\,30: EUCARISTÍA DE LAS FAMILIAS \n21\,00: Vigilia de oración del DOMUND \nDomingo\, día 23: \nEucaristías a las 9\, 00 – 11\,0 -\, 12\,00 – 13\, 00 – 19\,00 y 20\,00 horas
URL:https://www.begoniagijon.com/event/jornada-del-domund/
END:VEVENT
BEGIN:VEVENT
DTSTART;TZID=Europe/Paris:20181212T193000
DTEND;TZID=Europe/Paris:20181213T203000
DTSTAMP:20260423T135928
CREATED:20181207T190417Z
LAST-MODIFIED:20181207T190523Z
UID:1770-1544643000-1544733000@www.begoniagijon.com
SUMMARY:Triduo de San Juan de la Cruz
DESCRIPTION:
URL:https://www.begoniagijon.com/event/fiesta-de-san-juan-de-la-cruz-3/
END:VEVENT
BEGIN:VEVENT
DTSTART;TZID=Europe/Paris:20181214T193000
DTEND;TZID=Europe/Paris:20181214T210000
DTSTAMP:20260423T135928
CREATED:20181207T190648Z
LAST-MODIFIED:20181207T190737Z
UID:1774-1544815800-1544821200@www.begoniagijon.com
SUMMARY:Fiesta de San Juan de la Cruz
DESCRIPTION:19\,30 Rosario y oración al Santo \n20\,00 Eucaristía \n20\,30 Encuentro orante con San Juan de la Cruz por medio de sus poesías.
URL:https://www.begoniagijon.com/event/fiesta-de-san-juan-de-la-cruz-4/
END:VEVENT
BEGIN:VEVENT
DTSTART;TZID=Europe/Paris:20181215T120000
DTEND;TZID=Europe/Paris:20181215T123000
DTSTAMP:20260423T135928
CREATED:20181214T094848Z
LAST-MODIFIED:20181214T094848Z
UID:1781-1544875200-1544877000@www.begoniagijon.com
SUMMARY:Sembradores de Estrellas
DESCRIPTION:
URL:https://www.begoniagijon.com/event/sembradores-de-estrellas/
END:VEVENT
BEGIN:VEVENT
DTSTART;TZID=Europe/Paris:20181215T170000
DTEND;TZID=Europe/Paris:20181215T193000
DTSTAMP:20260423T135928
CREATED:20181214T094948Z
LAST-MODIFIED:20181214T094948Z
UID:1783-1544893200-1544902200@www.begoniagijon.com
SUMMARY:Representación navideña de los niños
DESCRIPTION:
URL:https://www.begoniagijon.com/event/representacion-navidena-de-los-ninos/
END:VEVENT
BEGIN:VEVENT
DTSTART;TZID=Europe/Paris:20181217T203000
DTEND;TZID=Europe/Paris:20181219T213000
DTSTAMP:20260423T135928
CREATED:20181207T192818Z
LAST-MODIFIED:20181207T192818Z
UID:1776-1545078600-1545255000@www.begoniagijon.com
SUMMARY:Certamen de Villancicos
DESCRIPTION:2º CERTAMEN DE VILLANCICOS\n\n\nDÍA 17.- Corales: Costa Verde y San José\n\n\nDÍA 18.- Corales: Porceyo y La Inmaculada P. Cifuentes\n\n\nDÍA 19.- Corales: Begoña y Coral Amanecer
URL:https://www.begoniagijon.com/event/certamen-de-villancicos/
END:VEVENT
BEGIN:VEVENT
DTSTART;TZID=Europe/Paris:20181221T193000
DTEND;TZID=Europe/Paris:20181221T203000
DTSTAMP:20260423T135928
CREATED:20181207T193339Z
LAST-MODIFIED:20181207T193339Z
UID:1778-1545420600-1545424200@www.begoniagijon.com
SUMMARY:Celebración penitencial de adviento
DESCRIPTION:
URL:https://www.begoniagijon.com/event/celebracion-penitencial-de-adviento/
END:VEVENT
BEGIN:VEVENT
DTSTART;TZID=Europe/Paris:20181221T193000
DTEND;TZID=Europe/Paris:20181221T220000
DTSTAMP:20260423T135928
CREATED:20181214T095122Z
LAST-MODIFIED:20181214T095122Z
UID:1785-1545420600-1545429600@www.begoniagijon.com
SUMMARY:Encuentro navideño de los grupos de la parroquia
DESCRIPTION:
URL:https://www.begoniagijon.com/event/encuentro-navideno-de-los-grupos-de-la-parroquia/
END:VEVENT
BEGIN:VEVENT
DTSTART;TZID=Europe/Paris:20190215T203000
DTEND;TZID=Europe/Paris:20190216T213000
DTSTAMP:20260423T135928
CREATED:20190215T114145Z
LAST-MODIFIED:20190215T114312Z
UID:1943-1550262600-1550352600@www.begoniagijon.com
SUMMARY:Jornadas Corales
DESCRIPTION:
URL:https://www.begoniagijon.com/event/jornadas-corales-3/
END:VEVENT
BEGIN:VEVENT
DTSTART;TZID=Europe/Paris:20190218T203000
DTEND;TZID=Europe/Paris:20190223T213000
DTSTAMP:20260423T135928
CREATED:20190215T114426Z
LAST-MODIFIED:20190215T114521Z
UID:1946-1550521800-1550957400@www.begoniagijon.com
SUMMARY:Jornadas Corales
DESCRIPTION:
URL:https://www.begoniagijon.com/event/jornadas-corales-4/
END:VEVENT
END:VCALENDAR