BEGIN:VCALENDAR
VERSION:2.0
PRODID:-//Parroquia Ntra. Sra. de Begoña - Gijón - ECPv6.15.20//NONSGML v1.0//EN
CALSCALE:GREGORIAN
METHOD:PUBLISH
X-ORIGINAL-URL:https://www.begoniagijon.com
X-WR-CALDESC:Eventos para Parroquia Ntra. Sra. de Begoña - Gijón
REFRESH-INTERVAL;VALUE=DURATION:PT1H
X-Robots-Tag:noindex
X-PUBLISHED-TTL:PT1H
BEGIN:VTIMEZONE
TZID:Europe/Paris
BEGIN:DAYLIGHT
TZOFFSETFROM:+0100
TZOFFSETTO:+0200
TZNAME:CEST
DTSTART:20160327T010000
END:DAYLIGHT
BEGIN:STANDARD
TZOFFSETFROM:+0200
TZOFFSETTO:+0100
TZNAME:CET
DTSTART:20161030T010000
END:STANDARD
BEGIN:DAYLIGHT
TZOFFSETFROM:+0100
TZOFFSETTO:+0200
TZNAME:CEST
DTSTART:20170326T010000
END:DAYLIGHT
BEGIN:STANDARD
TZOFFSETFROM:+0200
TZOFFSETTO:+0100
TZNAME:CET
DTSTART:20171029T010000
END:STANDARD
BEGIN:DAYLIGHT
TZOFFSETFROM:+0100
TZOFFSETTO:+0200
TZNAME:CEST
DTSTART:20180325T010000
END:DAYLIGHT
BEGIN:STANDARD
TZOFFSETFROM:+0200
TZOFFSETTO:+0100
TZNAME:CET
DTSTART:20181028T010000
END:STANDARD
END:VTIMEZONE
BEGIN:VEVENT
DTSTART;TZID=Europe/Paris:20170812T193000
DTEND;TZID=Europe/Paris:20170812T203000
DTSTAMP:20260425T173449
CREATED:20170725T213730Z
LAST-MODIFIED:20170725T214018Z
UID:1464-1502566200-1502569800@www.begoniagijon.com
SUMMARY:Triduo de Begoña
DESCRIPTION:19\,30 horas: Rosario y oración a la Virgen de Begoña \n20:00 horas: Misa
URL:https://www.begoniagijon.com/event/fiesta-de-la-virgen-de-begona-2/
END:VEVENT
BEGIN:VEVENT
DTSTART;TZID=Europe/Paris:20170813T183000
DTEND;TZID=Europe/Paris:20170813T190000
DTSTAMP:20260425T173449
CREATED:20170725T214215Z
LAST-MODIFIED:20170725T214215Z
UID:1468-1502649000-1502650800@www.begoniagijon.com
SUMMARY:Triduo de Begoña
DESCRIPTION:18:30 horas: Rosario y oración a la Virgen de Begoña \n20:00 horas Misa
URL:https://www.begoniagijon.com/event/triduo-de-begona/
END:VEVENT
BEGIN:VEVENT
DTSTART;TZID=Europe/Paris:20170814T193000
DTEND;TZID=Europe/Paris:20170814T203000
DTSTAMP:20260425T173449
CREATED:20170725T214411Z
LAST-MODIFIED:20170725T214411Z
UID:1471-1502739000-1502742600@www.begoniagijon.com
SUMMARY:Triduo de Begoña
DESCRIPTION:19:30 horas: Rosario y oración a la Virgen de Begoña \n20:00 Misa
URL:https://www.begoniagijon.com/event/triduo-de-begona-2/
END:VEVENT
BEGIN:VEVENT
DTSTART;VALUE=DATE:20170815
DTEND;VALUE=DATE:20170816
DTSTAMP:20260425T173449
CREATED:20170725T215340Z
LAST-MODIFIED:20170725T215340Z
UID:1473-1502755200-1502841599@www.begoniagijon.com
SUMMARY:Fiesta de la Virgen de Begoña
DESCRIPTION:Ver programa
URL:https://www.begoniagijon.com/event/fiesta-de-la-virgen-de-begona-3/
END:VEVENT
END:VCALENDAR