BEGIN:VCALENDAR
VERSION:2.0
PRODID:-//Parroquia Ntra. Sra. de Begoña - Gijón - ECPv6.15.20//NONSGML v1.0//EN
CALSCALE:GREGORIAN
METHOD:PUBLISH
X-WR-CALNAME:Parroquia Ntra. Sra. de Begoña - Gijón
X-ORIGINAL-URL:https://www.begoniagijon.com
X-WR-CALDESC:Eventos para Parroquia Ntra. Sra. de Begoña - Gijón
REFRESH-INTERVAL;VALUE=DURATION:PT1H
X-Robots-Tag:noindex
X-PUBLISHED-TTL:PT1H
BEGIN:VTIMEZONE
TZID:Europe/Paris
BEGIN:DAYLIGHT
TZOFFSETFROM:+0100
TZOFFSETTO:+0200
TZNAME:CEST
DTSTART:20160327T010000
END:DAYLIGHT
BEGIN:STANDARD
TZOFFSETFROM:+0200
TZOFFSETTO:+0100
TZNAME:CET
DTSTART:20161030T010000
END:STANDARD
BEGIN:DAYLIGHT
TZOFFSETFROM:+0100
TZOFFSETTO:+0200
TZNAME:CEST
DTSTART:20170326T010000
END:DAYLIGHT
BEGIN:STANDARD
TZOFFSETFROM:+0200
TZOFFSETTO:+0100
TZNAME:CET
DTSTART:20171029T010000
END:STANDARD
BEGIN:DAYLIGHT
TZOFFSETFROM:+0100
TZOFFSETTO:+0200
TZNAME:CEST
DTSTART:20180325T010000
END:DAYLIGHT
BEGIN:STANDARD
TZOFFSETFROM:+0200
TZOFFSETTO:+0100
TZNAME:CET
DTSTART:20181028T010000
END:STANDARD
END:VTIMEZONE
BEGIN:VEVENT
DTSTART;VALUE=DATE:20171001
DTEND;VALUE=DATE:20171002
DTSTAMP:20260425T122907
CREATED:20170830T151955Z
LAST-MODIFIED:20170830T152011Z
UID:1488-1506816000-1506902399@www.begoniagijon.com
SUMMARY:Fiesta de Santa Teresita
DESCRIPTION:
URL:https://www.begoniagijon.com/event/santa-teresita/
END:VEVENT
BEGIN:VEVENT
DTSTART;TZID=Europe/Paris:20171007T170000
DTEND;TZID=Europe/Paris:20171007T190000
DTSTAMP:20260425T122907
CREATED:20170830T151843Z
LAST-MODIFIED:20170830T153144Z
UID:1486-1507395600-1507402800@www.begoniagijon.com
SUMMARY:Comienzo de catequesis
DESCRIPTION:
URL:https://www.begoniagijon.com/event/comienzo-de-catequesis-2/
END:VEVENT
BEGIN:VEVENT
DTSTART;VALUE=DATE:20171015
DTEND;VALUE=DATE:20171016
DTSTAMP:20260425T122907
CREATED:20170830T153521Z
LAST-MODIFIED:20170830T153521Z
UID:1492-1508025600-1508111999@www.begoniagijon.com
SUMMARY:Fiesta de Santa Teresa
DESCRIPTION:
URL:https://www.begoniagijon.com/event/fiesta-de-santa-teresa-2/
END:VEVENT
BEGIN:VEVENT
DTSTART;TZID=Europe/Paris:20171021T210000
DTEND;TZID=Europe/Paris:20171021T220000
DTSTAMP:20260425T122907
CREATED:20171019T081124Z
LAST-MODIFIED:20171019T081124Z
UID:1518-1508619600-1508623200@www.begoniagijon.com
SUMMARY:Vigilia del Domund
DESCRIPTION:Te invitamos a rezar por nuestros misioneros y nuestras misiones el día 21\, sábado a las 21\,00 horas
URL:https://www.begoniagijon.com/event/vigilia-del-domund-2/
END:VEVENT
END:VCALENDAR