BEGIN:VCALENDAR
VERSION:2.0
PRODID:-//Parroquia Ntra. Sra. de Begoña - Gijón - ECPv6.15.20//NONSGML v1.0//EN
CALSCALE:GREGORIAN
METHOD:PUBLISH
X-WR-CALNAME:Parroquia Ntra. Sra. de Begoña - Gijón
X-ORIGINAL-URL:https://www.begoniagijon.com
X-WR-CALDESC:Eventos para Parroquia Ntra. Sra. de Begoña - Gijón
REFRESH-INTERVAL;VALUE=DURATION:PT1H
X-Robots-Tag:noindex
X-PUBLISHED-TTL:PT1H
BEGIN:VTIMEZONE
TZID:Europe/Paris
BEGIN:DAYLIGHT
TZOFFSETFROM:+0100
TZOFFSETTO:+0200
TZNAME:CEST
DTSTART:20170326T010000
END:DAYLIGHT
BEGIN:STANDARD
TZOFFSETFROM:+0200
TZOFFSETTO:+0100
TZNAME:CET
DTSTART:20171029T010000
END:STANDARD
BEGIN:DAYLIGHT
TZOFFSETFROM:+0100
TZOFFSETTO:+0200
TZNAME:CEST
DTSTART:20180325T010000
END:DAYLIGHT
BEGIN:STANDARD
TZOFFSETFROM:+0200
TZOFFSETTO:+0100
TZNAME:CET
DTSTART:20181028T010000
END:STANDARD
BEGIN:DAYLIGHT
TZOFFSETFROM:+0100
TZOFFSETTO:+0200
TZNAME:CEST
DTSTART:20190331T010000
END:DAYLIGHT
BEGIN:STANDARD
TZOFFSETFROM:+0200
TZOFFSETTO:+0100
TZNAME:CET
DTSTART:20191027T010000
END:STANDARD
END:VTIMEZONE
BEGIN:VEVENT
DTSTART;TZID=Europe/Paris:20180210T170000
DTEND;TZID=Europe/Paris:20180210T200000
DTSTAMP:20260423T135022
CREATED:20180204T172514Z
LAST-MODIFIED:20180204T172514Z
UID:1587-1518282000-1518292800@www.begoniagijon.com
SUMMARY:La Catequesis se vuelve un Carnaval
DESCRIPTION:Niño\, niña\, padre\, madre\, abuelo\, abuela\, hermano\, te esperamos con un disfraz para armar un verdadero carnaval en horario de catequesis.
URL:https://www.begoniagijon.com/event/la-catequesis-se-vuelve-un-carnaval/
END:VEVENT
BEGIN:VEVENT
DTSTART;VALUE=DATE:20180214
DTEND;VALUE=DATE:20180215
DTSTAMP:20260423T135022
CREATED:20180204T173546Z
LAST-MODIFIED:20180204T173546Z
UID:1595-1518566400-1518652799@www.begoniagijon.com
SUMMARY:Miércoles  de ceniza
DESCRIPTION:Se impondrá la ceniza en todas las misas: 8:00 – 12:30 y 20:00 horas.
URL:https://www.begoniagijon.com/event/miercoles-de-ceniza/
END:VEVENT
BEGIN:VEVENT
DTSTART;TZID=Europe/Paris:20180216T193000
DTEND;TZID=Europe/Paris:20180216T200000
DTSTAMP:20260423T135022
CREATED:20180204T173722Z
LAST-MODIFIED:20180204T173722Z
UID:1597-1518809400-1518811200@www.begoniagijon.com
SUMMARY:Viacrucis meditado
DESCRIPTION:
URL:https://www.begoniagijon.com/event/viacrucis-meditado/
END:VEVENT
BEGIN:VEVENT
DTSTART;TZID=Europe/Paris:20180216T203000
DTEND;TZID=Europe/Paris:20180216T213000
DTSTAMP:20260423T135022
CREATED:20180204T172742Z
LAST-MODIFIED:20180204T172742Z
UID:1589-1518813000-1518816600@www.begoniagijon.com
SUMMARY:Jornadas corales
DESCRIPTION:Un año más escucharemos una buena música en las jornadas corales de nuestra parroquia.
URL:https://www.begoniagijon.com/event/jornadas-corales/
END:VEVENT
BEGIN:VEVENT
DTSTART;TZID=Europe/Paris:20180219T203000
DTEND;TZID=Europe/Paris:20180224T213000
DTSTAMP:20260423T135022
CREATED:20180204T173110Z
LAST-MODIFIED:20180204T173349Z
UID:1593-1519072200-1519507800@www.begoniagijon.com
SUMMARY:Jornadas corales
DESCRIPTION:
URL:https://www.begoniagijon.com/event/jornadas-corales-2/
END:VEVENT
BEGIN:VEVENT
DTSTART;TZID=Europe/Paris:20180223T193000
DTEND;TZID=Europe/Paris:20180223T200000
DTSTAMP:20260423T135022
CREATED:20180204T173800Z
LAST-MODIFIED:20180204T173800Z
UID:1599-1519414200-1519416000@www.begoniagijon.com
SUMMARY:Viacrucis
DESCRIPTION:
URL:https://www.begoniagijon.com/event/viacrucis/
END:VEVENT
END:VCALENDAR