BEGIN:VCALENDAR
VERSION:2.0
PRODID:-//Parroquia Ntra. Sra. de Begoña - Gijón - ECPv6.15.20//NONSGML v1.0//EN
CALSCALE:GREGORIAN
METHOD:PUBLISH
X-ORIGINAL-URL:https://www.begoniagijon.com
X-WR-CALDESC:Eventos para Parroquia Ntra. Sra. de Begoña - Gijón
REFRESH-INTERVAL;VALUE=DURATION:PT1H
X-Robots-Tag:noindex
X-PUBLISHED-TTL:PT1H
BEGIN:VTIMEZONE
TZID:Europe/Paris
BEGIN:DAYLIGHT
TZOFFSETFROM:+0100
TZOFFSETTO:+0200
TZNAME:CEST
DTSTART:20170326T010000
END:DAYLIGHT
BEGIN:STANDARD
TZOFFSETFROM:+0200
TZOFFSETTO:+0100
TZNAME:CET
DTSTART:20171029T010000
END:STANDARD
BEGIN:DAYLIGHT
TZOFFSETFROM:+0100
TZOFFSETTO:+0200
TZNAME:CEST
DTSTART:20180325T010000
END:DAYLIGHT
BEGIN:STANDARD
TZOFFSETFROM:+0200
TZOFFSETTO:+0100
TZNAME:CET
DTSTART:20181028T010000
END:STANDARD
BEGIN:DAYLIGHT
TZOFFSETFROM:+0100
TZOFFSETTO:+0200
TZNAME:CEST
DTSTART:20190331T010000
END:DAYLIGHT
BEGIN:STANDARD
TZOFFSETFROM:+0200
TZOFFSETTO:+0100
TZNAME:CET
DTSTART:20191027T010000
END:STANDARD
END:VTIMEZONE
BEGIN:VEVENT
DTSTART;VALUE=DATE:20180501
DTEND;VALUE=DATE:20180502
DTSTAMP:20260421T120150
CREATED:20180423T165611Z
LAST-MODIFIED:20180423T165611Z
UID:1677-1525132800-1525219199@www.begoniagijon.com
SUMMARY:Misas para el día 1º de mayo
DESCRIPTION:Aunque es fiesta en el ámbito laboral\, las misas en nuestra parroquia tendrán horario de diario: 8:00 – 12:30 y 20:00 horas. \nEn la Cocina Económica y en las Madres Carmelitas de la Providencia: a las 9:00 de la mañana. 
URL:https://www.begoniagijon.com/event/misas-para-el-dia-1o-de-mayo/
END:VEVENT
BEGIN:VEVENT
DTSTART;TZID=Europe/Paris:20180502T123000
DTEND;TZID=Europe/Paris:20180502T133000
DTSTAMP:20260421T120150
CREATED:20180427T092050Z
LAST-MODIFIED:20180427T092050Z
UID:1679-1525264200-1525267800@www.begoniagijon.com
SUMMARY:Aniversario del P. Domiciano
DESCRIPTION:El miércoles\, día 2 de mayo\, a las 12:30 horas celebración del 1º aniversario de P. Domiciano Sáez\, presidido por Mons. Braulio Sáez (hermano).
URL:https://www.begoniagijon.com/event/aniversario-del-p-domiciano/
END:VEVENT
BEGIN:VEVENT
DTSTART;TZID=Europe/Paris:20180505T130000
DTEND;TZID=Europe/Paris:20180505T133000
DTSTAMP:20260421T120150
CREATED:20180423T095129Z
LAST-MODIFIED:20180427T092239Z
UID:1663-1525525200-1525527000@www.begoniagijon.com
SUMMARY:Pascua del enfermo (Unción)
DESCRIPTION:Sacramento de la Unción de Enfermos: \nDía 5 de mayo \nHora: 12:30 \nAnotarse con antelación en portería
URL:https://www.begoniagijon.com/event/pascua-del-enfermo-uncion/
END:VEVENT
BEGIN:VEVENT
DTSTART;TZID=Europe/Paris:20180505T183000
DTEND;TZID=Europe/Paris:20180505T193000
DTSTAMP:20260421T120150
CREATED:20180423T094109Z
LAST-MODIFIED:20180423T094109Z
UID:1660-1525545000-1525548600@www.begoniagijon.com
SUMMARY:Confirmaciones
DESCRIPTION:Confirmaciones en nuestra Parroquia. \nDía 5 de mayo\, a las 18:30 horas
URL:https://www.begoniagijon.com/event/confirmaciones-2/
END:VEVENT
BEGIN:VEVENT
DTSTART;TZID=Europe/Paris:20180511T123000
DTEND;TZID=Europe/Paris:20180511T133000
DTSTAMP:20260421T120150
CREATED:20180509T143517Z
LAST-MODIFIED:20180509T143517Z
UID:1685-1526041800-1526045400@www.begoniagijon.com
SUMMARY:Pascua del Enfermo. Sacramento de la Unción
DESCRIPTION:
URL:https://www.begoniagijon.com/event/pascua-del-enfermo-sacramento-de-la-uncion/
END:VEVENT
BEGIN:VEVENT
DTSTART;TZID=Europe/Paris:20180513T130000
DTEND;TZID=Europe/Paris:20180513T140000
DTSTAMP:20260421T120150
CREATED:20180423T095239Z
LAST-MODIFIED:20180423T095239Z
UID:1666-1526216400-1526220000@www.begoniagijon.com
SUMMARY:Primeras Comuniones
DESCRIPTION:
URL:https://www.begoniagijon.com/event/primeras-comuniones-4/
END:VEVENT
BEGIN:VEVENT
DTSTART;TZID=Europe/Paris:20180520T130000
DTEND;TZID=Europe/Paris:20180520T140000
DTSTAMP:20260421T120150
CREATED:20180423T095334Z
LAST-MODIFIED:20180423T095334Z
UID:1668-1526821200-1526824800@www.begoniagijon.com
SUMMARY:Primeras Comuniones
DESCRIPTION:
URL:https://www.begoniagijon.com/event/primeras-comuniones-5/
END:VEVENT
BEGIN:VEVENT
DTSTART;TZID=Europe/Paris:20180526T100000
DTEND;TZID=Europe/Paris:20180526T200000
DTSTAMP:20260421T120150
CREATED:20180423T102913Z
LAST-MODIFIED:20180423T102913Z
UID:1670-1527328800-1527364800@www.begoniagijon.com
SUMMARY:Paseo fin de curso de catequesis
DESCRIPTION:Paseo fin de curso a la Quinta de San Eutiquio \n 
URL:https://www.begoniagijon.com/event/paseo-fin-de-curso-de-catequesis/
END:VEVENT
END:VCALENDAR